BEGIN:VCALENDAR
VERSION:2.0
PRODID:spatie/icalendar-generator
DESCRIPTION:Events from Newport Golf Club
X-WR-CALDESC:Events from Newport Golf Club
REFRESH-INTERVAL;VALUE=DURATION:PT1440M
X-PUBLISHED-TTL:PT1440M
BEGIN:VTIMEZONE
TZID:Etc/GMT+0
BEGIN:STANDARD
DTSTART:20220822T180000Z
TZOFFSETFROM:+0000
TZOFFSETTO:+0000
END:STANDARD
END:VTIMEZONE
BEGIN:VTIMEZONE
TZID:UTC
BEGIN:STANDARD
DTSTART:20250726T103531Z
TZOFFSETFROM:+0000
TZOFFSETTO:+0000
END:STANDARD
END:VTIMEZONE
BEGIN:VEVENT
UID:2-2
DTSTAMP:20260422T103531Z
SUMMARY:Spring Fling Gala
LOCATION:
ORGANIZER;CN=Ed Albro:MAILTO:albro.ed@gmail.com
DTSTART;TZID=Etc/GMT+0:20230519T180000
DTEND;TZID=Etc/GMT+0:20230519T190000
X-ALT-DESC;FMTTYPE=TEXT/HTML:<p>The first Spring Fling Gala event will be h
 eld Friday May 19th at 6pm. The evening begins with cocktails followed by 
 dinner catered by our own Jeff Porter of Breaking Bread. Dinner will be fo
 llowed by a short talk by George Sargent\, a golf course architect who wor
 ked with Phil Wogan on the design of the Newport Golf Club 30 year ago. Ge
 orge also designed Montcalm golf club. Following George's talk Second Wind
 \, Suzi Hastings and Terry Ray Gould will provide entertainment. \"Public 
 is Welcome\"</p>\n<p>Tickets are $30 per person and may be purchased with 
 the Buy Tickets link below.</p>\n
CATEGORIES:Events
URL;VALUE=URI:https://newportgolfclub-nh.com/mc-events/spring-fling-gala/
METHOD:PUBLISH
END:VEVENT
END:VCALENDAR